BEGIN:VCALENDAR
VERSION:2.0
PRODID:icalendar-ruby
CALSCALE:GREGORIAN
METHOD:PUBLISH
BEGIN:VEVENT
DTSTAMP:20260420T165540Z
UID:37-361634@trinitywellston.com
DTSTART:20260426T170000Z
DTEND:20260426T180000Z
CLASS:PUBLIC
CREATED:20260412T114102
DESCRIPTION:A meeting after Sunday morning service to start discussing chil
 dren's camp this week.
LAST-MODIFIED:20260412T114102
LOCATION:
SUMMARY:Children's Camp Volunteer Meeting
URL;VALUE=URI:https://trinitywellston.com/events/childrens-camp-volunteer-m
 eeting/2026-04-26
ATTACH;FILENAME=Children%27s-Camp-Orientation.jpg;FMTTYPE=image/jpeg:https:
 //dq5pwpg1q8ru0.cloudfront.net/2026/04/12/16/41/01/c660f7e5-d5eb-4cb3-8267
 -634e96a790e3/Children%2527s-Camp-Orientation.jpg
END:VEVENT
END:VCALENDAR
