BEGIN:VCALENDAR
VERSION:2.0
PRODID:icalendar-ruby
CALSCALE:GREGORIAN
METHOD:PUBLISH
BEGIN:VEVENT
DTSTAMP:20260423T094037Z
UID:9-381384@trinitywellston.com
DTSTART:20260917T000000Z
DTEND:20260917T010000Z
CLASS:PUBLIC
CREATED:20260422T221019
DESCRIPTION:Wednesday night classes start at 7pm at the church. There are B
 ible studies for the youth and adults and children's choir practice for gr
 ades K-6th.
LAST-MODIFIED:20260422T221019
LOCATION:Trinity Baptist Church
SUMMARY:Wednesday Night Classes
URL;VALUE=URI:https://trinitywellston.com/events/wednesday-night-classes/20
 26-09-16
ATTACH;FILENAME=480245587_931977165755050_978940421355533805_n.jpg;FMTTYPE=
 image/jpeg:https://dq5pwpg1q8ru0.cloudfront.net/2025/07/20/21/52/14/eab902
 2e-71cb-4197-ba1a-97f794c696b5/480245587_931977165755050_97894042135553380
 5_n.jpg
END:VEVENT
END:VCALENDAR
